BEGIN:VCALENDAR
VERSION:2.0
PRODID:-//Discover Hua Hin: Your Ultimate Travel Guide - ECPv6.15.20//NONSGML v1.0//EN
CALSCALE:GREGORIAN
METHOD:PUBLISH
X-WR-CALNAME:Discover Hua Hin: Your Ultimate Travel Guide
X-ORIGINAL-URL:https://discover-huahin.info
X-WR-CALDESC:Events for Discover Hua Hin: Your Ultimate Travel Guide
REFRESH-INTERVAL;VALUE=DURATION:PT1H
X-Robots-Tag:noindex
X-PUBLISHED-TTL:PT1H
BEGIN:VTIMEZONE
TZID:Asia/Bangkok
BEGIN:STANDARD
TZOFFSETFROM:+0700
TZOFFSETTO:+0700
TZNAME:+07
DTSTART:20240101T000000
END:STANDARD
END:VTIMEZONE
BEGIN:VEVENT
DTSTART;TZID=Asia/Bangkok:20251017T190000
DTEND;TZID=Asia/Bangkok:20251017T210000
DTSTAMP:20260422T075320
CREATED:20251015T021844Z
LAST-MODIFIED:20251015T093146Z
UID:4060-1760727600-1760734800@discover-huahin.info
SUMMARY:Jazz is back at Why Not Restaurant
DESCRIPTION:After a month without our cozy jazz nights\, we’re bringing the groove back this Friday\, October 17th from 7 PM to 9 PM ! \nJoin us for a beautiful evening filled with smooth vibes\, great food\, and of course\, our favorite saxophonist lighting up the night. \nAnd a special suprise !! The boxing Machine gonna be set ! Win the record and win a free pizza or bottle of wine 😲😲😲😲💪💪💪 \nCome enjoy the return of the music\, the mood\, and the magic. 🍷🍕 \nStay tuned and don’t miss it !
URL:https://discover-huahin.info/event/jazz-is-back-at-why-not-restaurant/
LOCATION:Why Not Restaurant\, 4\, 27 Phet Kasem Rd\, Nong Kae\, Hua Hin\, Prachuap Khiri Khan\, 77110\, Thailand
CATEGORIES:Central Hua Hin
ATTACH;FMTTYPE=image/jpeg:https://discover-huahin.info/wp-content/uploads/2025/10/att.v9rsgk2qfQ6QCWSXvxRiv09hJFVHVA_ytkgbSNXuj98.png.jpeg
END:VEVENT
BEGIN:VEVENT
DTSTART;TZID=Asia/Bangkok:20251017T183000
DTEND;TZID=Asia/Bangkok:20251017T203000
DTSTAMP:20260422T075320
CREATED:20251015T052332Z
LAST-MODIFIED:20251015T052332Z
UID:4073-1760725800-1760733000@discover-huahin.info
SUMMARY:A Super Tuscan Experience
DESCRIPTION:Savor Six Premium Labels & One Esclusive Treat
URL:https://discover-huahin.info/event/a-super-tuscan-experience/
LOCATION:Prachuap Khiri Khan
CATEGORIES:Khao Takiab & South
ATTACH;FMTTYPE=image/jpeg:https://discover-huahin.info/wp-content/uploads/2025/10/IMG_8024.jpg
END:VEVENT
BEGIN:VEVENT
DTSTART;TZID=Asia/Bangkok:20251017T070000
DTEND;TZID=Asia/Bangkok:20251017T170000
DTSTAMP:20260422T075320
CREATED:20251016T112504Z
LAST-MODIFIED:20251016T112504Z
UID:4101-1760684400-1760720400@discover-huahin.info
SUMMARY:Brazilian Coffee
DESCRIPTION:
URL:https://discover-huahin.info/event/brazilian-coffee/
LOCATION:Prachuap Khiri Khan
CATEGORIES:Central Hua Hin
ATTACH;FMTTYPE=image/jpeg:https://discover-huahin.info/wp-content/uploads/2025/10/560182655_1666270961392999_8201978886332604084_n.jpg
END:VEVENT
BEGIN:VEVENT
DTSTART;TZID=Asia/Bangkok:20251014T183000
DTEND;TZID=Asia/Bangkok:20251014T183000
DTSTAMP:20260422T075320
CREATED:20251013T104529Z
LAST-MODIFIED:20251013T104912Z
UID:4048-1760466600-1760466600@discover-huahin.info
SUMMARY:Back to the Beat
DESCRIPTION:
URL:https://discover-huahin.info/event/back-to-the-beat/
LOCATION:Prachuap Khiri Khan
CATEGORIES:Khao Takiab & South
ATTACH;FMTTYPE=image/jpeg:https://discover-huahin.info/wp-content/uploads/2025/10/IMG_7918.jpg
END:VEVENT
BEGIN:VEVENT
DTSTART;TZID=Asia/Bangkok:20251013T170000
DTEND;TZID=Asia/Bangkok:20251013T200000
DTSTAMP:20260422T075320
CREATED:20251013T053752Z
LAST-MODIFIED:20251013T100450Z
UID:3994-1760374800-1760385600@discover-huahin.info
SUMMARY:Free Wine Tasting & Pizza Night
DESCRIPTION:Free Wine Tasting & Pizza Night at Why Not Restaurant\, Hua Hin on Monday\, October 13.\nWine tasting runs 5–6 PM\, followed by pizza dinner 6–8 PM at Soi 98; contact 094 434 630 \nJoin us for an unforgettable evening at Why Not Restaurant featuring free wine tasting and freshly baked pizza straight from our oven! 🍷🍕 \nEnjoy a relaxed atmosphere\, sample a selection of fine wines\, and savor delicious pizza with friends and fellow wine lovers. \nCome for the wine\, stay for the vibes — everyone’s welcome!
URL:https://discover-huahin.info/event/event-1/
LOCATION:Why Not Restaurant\, 4\, 27 Phet Kasem Rd\, Nong Kae\, Hua Hin\, Prachuap Khiri Khan\, 77110\, Thailand
CATEGORIES:Central Hua Hin
ATTACH;FMTTYPE=image/jpeg:https://discover-huahin.info/wp-content/uploads/2025/10/86e2eeaf-aa90-430d-bb9d-69a8978535cb.jpg
END:VEVENT
END:VCALENDAR