BEGIN:VCALENDAR
VERSION:2.0
PRODID:-//Discover Hua Hin: Your Ultimate Travel Guide - ECPv6.15.20//NONSGML v1.0//EN
CALSCALE:GREGORIAN
METHOD:PUBLISH
X-WR-CALNAME:Discover Hua Hin: Your Ultimate Travel Guide
X-ORIGINAL-URL:https://discover-huahin.info
X-WR-CALDESC:Events for Discover Hua Hin: Your Ultimate Travel Guide
REFRESH-INTERVAL;VALUE=DURATION:PT1H
X-Robots-Tag:noindex
X-PUBLISHED-TTL:PT1H
BEGIN:VTIMEZONE
TZID:Asia/Bangkok
BEGIN:STANDARD
TZOFFSETFROM:+0700
TZOFFSETTO:+0700
TZNAME:+07
DTSTART:20240101T000000
END:STANDARD
END:VTIMEZONE
BEGIN:VEVENT
DTSTART;TZID=Asia/Bangkok:20251224T180000
DTEND;TZID=Asia/Bangkok:20251224T220000
DTSTAMP:20260422T075655
CREATED:20251013T102659Z
LAST-MODIFIED:20251015T094139Z
UID:4043-1766599200-1766613600@discover-huahin.info
SUMMARY:Christmas Eve dinner
DESCRIPTION:
URL:https://discover-huahin.info/event/christmas-eve-dinner/
LOCATION:Air Space Hua Hin\, 12/399 Hua Dorn\, Hua Hin\, Prachuap Khiri Khan\, 77110
CATEGORIES:Khao Takiab & South
ATTACH;FMTTYPE=image/jpeg:https://discover-huahin.info/wp-content/uploads/2025/10/IMG_8013.jpg
END:VEVENT
BEGIN:VEVENT
DTSTART;TZID=Asia/Bangkok:20251225T120000
DTEND;TZID=Asia/Bangkok:20251225T170000
DTSTAMP:20260422T075655
CREATED:20251106T033015Z
LAST-MODIFIED:20251106T033024Z
UID:4371-1766664000-1766682000@discover-huahin.info
SUMMARY:Merry Christmas
DESCRIPTION:This year will mark our amazing head chefs 11th Christmas at the helm aka the Altar 🎄 Each and every year Chef Pui and his fantastic team have served up well over 200 traditional Christmas dinners from our opening and with a little help from an Irish mum 😉🎄 \nYou can put your trust in us\, we will be prepared as always. Just check out past reviews for confirmation\, the proof is in the Christmas pudding. \nSo if you are still undecided\, then look no further than Father Ted’s. We have the experience and know how to make this Christmas a memorable occasion for you and all the family. \nIf by chance you are eating alone and would like to sit with a group\, just get in touch\, you would be surprised how common it is every year\, great friends are always made in Ted’s\, so do please join us. Sure where else in Hua Hin can you sit around a fire place on Christmas day ;)🎄🤶🌲🎅 \n🎄🤶🌲🎅🎄
URL:https://discover-huahin.info/event/merry-christmas/
LOCATION:Fater Ted’s\, 19 Damnernkasem Rd\, hua hin\, 77110\, Thailand
CATEGORIES:Central Hua Hin
ATTACH;FMTTYPE=image/jpeg:https://discover-huahin.info/wp-content/uploads/2025/11/IMG_8464.jpg
END:VEVENT
BEGIN:VEVENT
DTSTART;TZID=Asia/Bangkok:20251226T190000
DTEND;TZID=Asia/Bangkok:20251226T230000
DTSTAMP:20260422T075655
CREATED:20251106T031501Z
LAST-MODIFIED:20251224T051039Z
UID:4364-1766775600-1766790000@discover-huahin.info
SUMMARY:Friday Jazz Night Saxophone Solo
DESCRIPTION:Relax after Christmas\, feel the jazz 💫 \nThis Friday\, December 26th\, 2025\, unwind after the holidays and enjoy a live solo saxophone performance in a cozy\, intimate jazz atmosphere.\nSmooth jazz vibes\, good wine\, cocktails\, and wood-fired pizzas .. the perfect way to end your week. \n✨ Live Saxophone Solo \n🍷 Wine • Cocktails • Wood-fired Pizza \n🎶 Cozy jazz lounge atmosphere \n📍 Why Not Restaurant \n📍 Address: 4/27 Phet Kasem Rd\, Nong Kae\, Hua Hin\, Prachuap Khiri Khan 77110 \n📍 https://maps.app.goo.gl/EzWAZfZwWx15ifVX9 \n📞 Booking recommended: +66931344981 \nWhatsApp : +33646433108 \n⏰ Evening jazz session \n🎟️ Free entrance
URL:https://discover-huahin.info/event/happy-hour-jazz-at-why-not-restaurant/
LOCATION:Why Not Restaurant\, 4\, 27 Phet Kasem Rd\, Nong Kae\, Hua Hin\, Prachuap Khiri Khan\, 77110\, Thailand
CATEGORIES:Central Hua Hin
ATTACH;FMTTYPE=image/jpeg:https://discover-huahin.info/wp-content/uploads/2025/11/IMG_9246.jpg
END:VEVENT
BEGIN:VEVENT
DTSTART;TZID=Asia/Bangkok:20251231T180000
DTEND;TZID=Asia/Bangkok:20260101T010000
DTSTAMP:20260422T075655
CREATED:20251216T021114Z
LAST-MODIFIED:20251223T033152Z
UID:4456-1767204000-1767229200@discover-huahin.info
SUMMARY:Why Not New Year With Us?
DESCRIPTION:✨ WHY NOT NEW YEAR WITH US ? ✨\nRing in the New Year with style\, music\, and an unforgettable sunset at Why Not Restaurant and on the ROOFTOP 🎷🍾 \nJoin us on December 31st for a magical New Year’s Eve above Hua Hin:\n🌅 Sunset vibes\n🎶 2 live bands + 1 live DJ set\n🌌 Party under the stars until the countdown !\n🕕 6 PM – 1 AM\n🎉 FREE ENTRANCE !! \nA classy\, relaxed and festive atmosphere — perfect to celebrate the end of the year with friends\, music\, wine and great food. \n📍 Why Not Restaurant\nSoi 98\, between Blueport & Market Village\n4\, 27 Phet Kasem Rd\, Nong Kae\, Hua Hin\n📍 Hua Hin\, Thailand \n📞 Book your table in advance (recommended) :\n☎️ 092 620 1492\n☎️ 093 134 4981\n💬 WhatsApp: +33 6 46 43 31 08 \n✨ Let’s welcome the New Year together ! Why Not ? ✨\nSeats are limited\, don’t wait too long ! \n#WhyNotRestaurant\n#NewYearEveHuaHin\n#HuaHinNightlife\n#HuaHinEvents\n#NewYearParty\n#LiveMusicHuaHin\n#JazzVibes\n#FreeEntrance\n#PartyUnderTheStars\n#Countdown2026
URL:https://discover-huahin.info/event/4456/
LOCATION:Why Not Restaurant\, 4\, 27 Phet Kasem Rd\, Nong Kae\, Hua Hin\, Prachuap Khiri Khan\, 77110\, Thailand
CATEGORIES:Central Hua Hin
ATTACH;FMTTYPE=image/jpeg:https://discover-huahin.info/wp-content/uploads/2025/12/IMG_9131.jpg
END:VEVENT
BEGIN:VEVENT
DTSTART;TZID=Asia/Bangkok:20251231T193000
DTEND;TZID=Asia/Bangkok:20251231T193000
DTSTAMP:20260422T075655
CREATED:20251022T070814Z
LAST-MODIFIED:20251022T071514Z
UID:4169-1767209400-1767209400@discover-huahin.info
SUMMARY:the Bangkok Beatles New Years Eve Party Live in Father Ted's
DESCRIPTION:Make sure to book a spot nice and early if you fancy a table for dinner to enjoy Hua Hin’s Best New Years Eve Party with Thailand’s all time favorite Tribute Band The Bangkok Beatles with a late night International visual Dj playing the best of Soul and Dance floor Classics before\, after and in-between sets. \nTickets are available at 500tb per person with a complementary welcome drink upon arrival. Space is limited and interest is extremely high so please make sure to get in touch with us nice and early if you fancy joining us for an unforgettable night out with us in Father Teds.
URL:https://discover-huahin.info/event/the-bangkok-beatles-new-years-eve-party-live-in-father-teds/
LOCATION:Fater Ted’s\, 19 Damnernkasem Rd\, hua hin\, 77110\, Thailand
CATEGORIES:Central Hua Hin
ATTACH;FMTTYPE=image/jpeg:https://discover-huahin.info/wp-content/uploads/2025/10/IMG_8127.jpg
END:VEVENT
BEGIN:VEVENT
DTSTART;VALUE=DATE:20260214
DTEND;VALUE=DATE:20260215
DTSTAMP:20260422T075655
CREATED:20260207T030838Z
LAST-MODIFIED:20260207T073450Z
UID:4489-1771027200-1771113599@discover-huahin.info
SUMMARY:Celebrating Galentine's Day
DESCRIPTION:
URL:https://discover-huahin.info/event/celebrating-galentines-day/
LOCATION:Prachuap Khiri Khan
CATEGORIES:Soi 88-94 Area
ATTACH;FMTTYPE=image/jpeg:https://discover-huahin.info/wp-content/uploads/2026/02/IMG_9943.jpg
END:VEVENT
BEGIN:VEVENT
DTSTART;TZID=Asia/Bangkok:20260225T070000
DTEND;TZID=Asia/Bangkok:20260225T070000
DTSTAMP:20260422T075655
CREATED:20260219T073527Z
LAST-MODIFIED:20260219T073610Z
UID:4496-1772002800-1772002800@discover-huahin.info
SUMMARY:8th Anniversary of Rock Zone
DESCRIPTION:
URL:https://discover-huahin.info/event/8th-anniversary-of-rock-zone/
LOCATION:Rock Zone Bar & Live Music\, Rung Charoen Alley\, Hua Hin\, Prachuap Khiri Khan\, 77110\, Thailand
CATEGORIES:Soi 88-94 Area
ATTACH;FMTTYPE=image/jpeg:https://discover-huahin.info/wp-content/uploads/2026/02/IMG_0122.jpg
END:VEVENT
BEGIN:VEVENT
DTSTART;TZID=Asia/Bangkok:20260326T200000
DTEND;TZID=Asia/Bangkok:20260326T200000
DTSTAMP:20260422T075655
CREATED:20251024T050624Z
LAST-MODIFIED:20260324T014616Z
UID:4199-1774555200-1774555200@discover-huahin.info
SUMMARY:Sticky Cats
DESCRIPTION:
URL:https://discover-huahin.info/event/sticky-cats/
LOCATION:Scruffy’s Irish Pub\, Soi 94\, hua hin\, Prachuap Khiri Khan\, 77110\, Thailand
CATEGORIES:Soi 88-94 Area
ATTACH;FMTTYPE=image/jpeg:https://discover-huahin.info/wp-content/uploads/2025/10/IMG_7888.jpg
END:VEVENT
BEGIN:VEVENT
DTSTART;TZID=Asia/Bangkok:20260408T210000
DTEND;TZID=Asia/Bangkok:20260408T235900
DTSTAMP:20260422T075655
CREATED:20251103T101020Z
LAST-MODIFIED:20260408T050612Z
UID:4357-1775682000-1775692740@discover-huahin.info
SUMMARY:The Answer
DESCRIPTION:Rock zone snack \,Every Mon\, Wednesdays\,Saturdays\,Suns meet    \n         👉The Answer Band🤟 \n Style Heavy\,Rock&Roll\,70″-90″\, Blues\,etc …🍿🍽🥜☕food and live music  Great band in huahin. \n ⏰  🎸🎤🥁 Start 9.00 – 11.45 p.m
URL:https://discover-huahin.info/event/the-answer-2/
LOCATION:Rock Zone Bar & Live Music\, Rung Charoen Alley\, Hua Hin\, Prachuap Khiri Khan\, 77110\, Thailand
CATEGORIES:Soi 88-94 Area
ATTACH;FMTTYPE=image/jpeg:https://discover-huahin.info/wp-content/uploads/2025/10/IMG_8012.jpg
END:VEVENT
BEGIN:VEVENT
DTSTART;TZID=Asia/Bangkok:20260409T080000
DTEND;TZID=Asia/Bangkok:20260409T170000
DTSTAMP:20260422T075655
CREATED:20251112T020900Z
LAST-MODIFIED:20260408T050551Z
UID:4376-1775721600-1775754000@discover-huahin.info
SUMMARY:Friends
DESCRIPTION:
URL:https://discover-huahin.info/event/friends/
LOCATION:Rock Zone Bar & Live Music\, Rung Charoen Alley\, Hua Hin\, Prachuap Khiri Khan\, 77110\, Thailand
CATEGORIES:Soi 88-94 Area
ATTACH;FMTTYPE=image/jpeg:https://discover-huahin.info/wp-content/uploads/2025/11/IMG_8335.jpg
END:VEVENT
BEGIN:VEVENT
DTSTART;TZID=Asia/Bangkok:20260410T100000
DTEND;TZID=Asia/Bangkok:20260410T100000
DTSTAMP:20260422T075655
CREATED:20251203T041810Z
LAST-MODIFIED:20260408T050353Z
UID:4431-1775815200-1775815200@discover-huahin.info
SUMMARY:soi 102 coffee meet up
DESCRIPTION:
URL:https://discover-huahin.info/event/soi-102-coffee-meet-up/
LOCATION:Coffee & Dreams\, soi 102\, hua hin\, Prachuap Khiri Khan\, 77110\, Thailand
CATEGORIES:Central Hua Hin
ATTACH;FMTTYPE=image/jpeg:https://discover-huahin.info/wp-content/uploads/2025/12/IMG_8955.jpg
END:VEVENT
BEGIN:VEVENT
DTSTART;TZID=Asia/Bangkok:20260410T210000
DTEND;TZID=Asia/Bangkok:20260410T210000
DTSTAMP:20260422T075655
CREATED:20251017T081138Z
LAST-MODIFIED:20260408T050531Z
UID:4110-1775854800-1775854800@discover-huahin.info
SUMMARY:Young Spirit
DESCRIPTION:Rock Zone Friday night meet 🎉 \n   👉Young Spirit🤟 \n💁Style Rock 90″ Modern rock\, \n  Rock 90″\,punk\,Pop\,Etc 🍿🥂Enjoy food and live music  
URL:https://discover-huahin.info/event/young-spirit/
LOCATION:Rock Zone Bar & Live Music\, Rung Charoen Alley\, Hua Hin\, Prachuap Khiri Khan\, 77110\, Thailand
CATEGORIES:Soi 88-94 Area
ATTACH;FMTTYPE=image/jpeg:https://discover-huahin.info/wp-content/uploads/2025/10/IMG_8073.jpg
END:VEVENT
BEGIN:VEVENT
DTSTART;TZID=Asia/Bangkok:20260412T203000
DTEND;TZID=Asia/Bangkok:20260412T223000
DTSTAMP:20260422T075655
CREATED:20251112T021459Z
LAST-MODIFIED:20260408T050512Z
UID:4382-1776025800-1776033000@discover-huahin.info
SUMMARY:The Answer
DESCRIPTION:Beginning Tuesday 16 December and every Tuesday after The Answer Band will be appearing at Hard Rock Café Hua Hin in the Hilton Hotel. The band is scheduled to play from 8:30p until 10:30p. the Hard Rock is putting their live music schedule together to beginning in December.
URL:https://discover-huahin.info/event/the-answer/
LOCATION:Hard Rock Cafe\, Ground Floor\, Hilton Hua Hin\, 33 Naresdamri Rd\, Hua Hin\, Prachuap Khiri Khan\, 77110\, Thailand
CATEGORIES:Soi 88-94 Area
ATTACH;FMTTYPE=image/jpeg:https://discover-huahin.info/wp-content/uploads/2025/11/IMG_8646.jpg
END:VEVENT
BEGIN:VEVENT
DTSTART;TZID=Asia/Bangkok:20260413T110000
DTEND;TZID=Asia/Bangkok:20260413T130000
DTSTAMP:20260422T075655
CREATED:20251013T102940Z
LAST-MODIFIED:20260408T050452Z
UID:4046-1776078000-1776085200@discover-huahin.info
SUMMARY:Coffe meetup at Airspace Restaurant
DESCRIPTION:
URL:https://discover-huahin.info/event/coffe-meetup-at-airspace-restaurant/
LOCATION:Air Space Hua Hin\, 12/399 Hua Dorn\, Hua Hin\, Prachuap Khiri Khan\, 77110
CATEGORIES:Khao Takiab & South
ATTACH;FMTTYPE=image/jpeg:https://discover-huahin.info/wp-content/uploads/2025/10/30fc1449-eb35-4d6b-bca4-919111f4e97b.jpg
END:VEVENT
BEGIN:VEVENT
DTSTART;TZID=Asia/Bangkok:20260413T210000
DTEND;TZID=Asia/Bangkok:20260413T235900
DTSTAMP:20260422T075655
CREATED:20251013T053851Z
LAST-MODIFIED:20260408T050136Z
UID:3997-1776114000-1776124740@discover-huahin.info
SUMMARY:The Answer
DESCRIPTION:Rock zone snack \,Every Mon\, Wednesdays\,Saturdays\,Suns meet    \n         👉The Answer Band🤟 \n Style Heavy\,Rock&Roll\,70″-90″\, Blues\,etc …🍿🍽🥜☕food and live music  Great band in huahin. \n ⏰  🎸🎤🥁 Start 9.00 – 11.45 p.m
URL:https://discover-huahin.info/event/event-2/
LOCATION:Rock Zone Bar & Live Music\, Rung Charoen Alley\, Hua Hin\, Prachuap Khiri Khan\, 77110\, Thailand
CATEGORIES:Soi 88-94 Area
ATTACH;FMTTYPE=image/jpeg:https://discover-huahin.info/wp-content/uploads/2025/10/IMG_8012.jpg
END:VEVENT
BEGIN:VEVENT
DTSTART;TZID=Asia/Bangkok:20260414T190000
DTEND;TZID=Asia/Bangkok:20260414T223000
DTSTAMP:20260422T075655
CREATED:20251015T105113Z
LAST-MODIFIED:20260408T050432Z
UID:4092-1776193200-1776205800@discover-huahin.info
SUMMARY:A Special Performance at RailwayBar
DESCRIPTION:
URL:https://discover-huahin.info/event/a-special-performanca-at-railwaybar/
LOCATION:Railaway Bar\, HXC3+8M5\, Hua Hin\, Hua Hin District\, Prachuap Khiri Khan 77110\, hua hin\, Prachuap Khiri Khan\, 77110\, Thailand
CATEGORIES:Central Hua Hin
ATTACH;FMTTYPE=image/jpeg:https://discover-huahin.info/wp-content/uploads/2025/08/att.W5A8Dhq-VdqhkyV5xub81tn7BOdtF2qUtodgLDK6r90.jpg
END:VEVENT
BEGIN:VEVENT
DTSTART;TZID=Asia/Bangkok:20260414T210000
DTEND;TZID=Asia/Bangkok:20260414T210000
DTSTAMP:20260422T075655
CREATED:20251017T081715Z
LAST-MODIFIED:20260408T050414Z
UID:4115-1776200400-1776200400@discover-huahin.info
SUMMARY:Crazy Bull
DESCRIPTION:Rock zone snack Tuesday meet 👉Crazy Bull Band🤟 Style \nRock&Roll\,70″-90″\,Thai rock song\,etc …🍿🍽🥜☕food and live music  
URL:https://discover-huahin.info/event/crazy-bull/
LOCATION:Rock Zone Bar & Live Music\, Rung Charoen Alley\, Hua Hin\, Prachuap Khiri Khan\, 77110\, Thailand
CATEGORIES:Soi 88-94 Area
ATTACH;FMTTYPE=image/jpeg:https://discover-huahin.info/wp-content/uploads/2025/10/IMG_8074.jpg
END:VEVENT
END:VCALENDAR