BEGIN:VCALENDAR
VERSION:2.0
PRODID:-//Discover Hua Hin: Your Ultimate Travel Guide - ECPv6.15.20//NONSGML v1.0//EN
CALSCALE:GREGORIAN
METHOD:PUBLISH
X-WR-CALNAME:Discover Hua Hin: Your Ultimate Travel Guide
X-ORIGINAL-URL:https://discover-huahin.info
X-WR-CALDESC:Events for Discover Hua Hin: Your Ultimate Travel Guide
REFRESH-INTERVAL;VALUE=DURATION:PT1H
X-Robots-Tag:noindex
X-PUBLISHED-TTL:PT1H
BEGIN:VTIMEZONE
TZID:Asia/Bangkok
BEGIN:STANDARD
TZOFFSETFROM:+0700
TZOFFSETTO:+0700
TZNAME:+07
DTSTART:20240101T000000
END:STANDARD
END:VTIMEZONE
BEGIN:VEVENT
DTSTART;TZID=Asia/Bangkok:20251219T080000
DTEND;TZID=Asia/Bangkok:20251221T170000
DTSTAMP:20260422T012236
CREATED:20251112T022433Z
LAST-MODIFIED:20251112T022452Z
UID:4389-1766131200-1766336400@discover-huahin.info
SUMMARY:23th Hua Hin Vintage car Parade
DESCRIPTION:the Charme of yesterday…. a Seaside Town with Local Colour
URL:https://discover-huahin.info/event/23th-hua-hin-vintage-car-parade/
LOCATION:Dusit Thani Hua Hin\, 1349 Phet Kasem Rd\, Cha-am\, Prachuap Khiri Khan\, 76120\, Thailand
CATEGORIES:North Hua Hin
ATTACH;FMTTYPE=image/jpeg:https://discover-huahin.info/wp-content/uploads/2025/11/IMG_8639.jpg
END:VEVENT
END:VCALENDAR