BEGIN:VCALENDAR
VERSION:2.0
PRODID:-//Discover Hua Hin: Your Ultimate Travel Guide - ECPv6.15.20//NONSGML v1.0//EN
CALSCALE:GREGORIAN
METHOD:PUBLISH
X-ORIGINAL-URL:https://discover-huahin.info
X-WR-CALDESC:Events for Discover Hua Hin: Your Ultimate Travel Guide
REFRESH-INTERVAL;VALUE=DURATION:PT1H
X-Robots-Tag:noindex
X-PUBLISHED-TTL:PT1H
BEGIN:VTIMEZONE
TZID:Asia/Bangkok
BEGIN:STANDARD
TZOFFSETFROM:+0700
TZOFFSETTO:+0700
TZNAME:+07
DTSTART:20240101T000000
END:STANDARD
END:VTIMEZONE
BEGIN:VEVENT
DTSTART;TZID=Asia/Bangkok:20251017T183000
DTEND;TZID=Asia/Bangkok:20251017T203000
DTSTAMP:20260422T081636
CREATED:20251015T052332Z
LAST-MODIFIED:20251015T052332Z
UID:4073-1760725800-1760733000@discover-huahin.info
SUMMARY:A Super Tuscan Experience
DESCRIPTION:Savor Six Premium Labels & One Esclusive Treat
URL:https://discover-huahin.info/event/a-super-tuscan-experience/
LOCATION:Prachauap Khiri Khan
CATEGORIES:Khao Takiab & South
ATTACH;FMTTYPE=image/jpeg:https://discover-huahin.info/wp-content/uploads/2025/10/IMG_8024.jpg
END:VEVENT
END:VCALENDAR