BEGIN:VCALENDAR
VERSION:2.0
PRODID:-//Discover Hua Hin: Your Ultimate Travel Guide - ECPv6.15.20//NONSGML v1.0//EN
CALSCALE:GREGORIAN
METHOD:PUBLISH
X-ORIGINAL-URL:https://discover-huahin.info
X-WR-CALDESC:Events for Discover Hua Hin: Your Ultimate Travel Guide
REFRESH-INTERVAL;VALUE=DURATION:PT1H
X-Robots-Tag:noindex
X-PUBLISHED-TTL:PT1H
BEGIN:VTIMEZONE
TZID:Asia/Bangkok
BEGIN:STANDARD
TZOFFSETFROM:+0700
TZOFFSETTO:+0700
TZNAME:+07
DTSTART:20240101T000000
END:STANDARD
END:VTIMEZONE
BEGIN:VEVENT
DTSTART;TZID=Asia/Bangkok:20251206T163000
DTEND;TZID=Asia/Bangkok:20251206T183000
DTSTAMP:20260422T012445
CREATED:20251202T040453Z
LAST-MODIFIED:20251202T040453Z
UID:4408-1765038600-1765045800@discover-huahin.info
SUMMARY:Jazz the Sunset at Why Not Restaurant
DESCRIPTION:🌅🎷 THIS SATURDAY\, DECEMBER 6 TH ● JAZZ WITH THE SUNSET ● Rooftop Edition ● \n✨ 700 THB – includes 1 glass of wine 🍷 \nExperience a magical evening on our rooftop with live jazz\, a warm sunset glow\, and an intimate atmosphere above the city.\nA refined\, cozy moment with live saxophone & piano\, bringing the perfect soundtrack to the golden hour.🙌 \nFor 2 unforgettable hours\, enjoy :\n🎷 Live jazz music in the open air\n🌅 A mesmerizing sunset behind the mountains\n🍷 One complimentary glass of wine\n✨ High tables\, warm lighting & an elegant rooftop vibe\n🌆 A uniquely Thai-style rooftop ambience with city views \n📍 Why Not Restaurant – Hua Hin\n🗓️ Date & Time: Saturday 6 December 4.30 pm to 6.30 pm.\n💰 700 THB per person – glass of wine included\n👥 Limited to 50 guests – booking required \n📞 Reservations:\n0926201492\n0931344981 \n📱 WhatsApp: +33 646 43 31 08
URL:https://discover-huahin.info/event/jazz-the-sunset-at-why-not-restaurant/
LOCATION:Why Not Restaurant\, 4\, 27 Phet Kasem Rd\, Nong Kae\, Hua Hin\, Prachuap Khiri Khan\, 77110\, Thailand
CATEGORIES:Central Hua Hin
ATTACH;FMTTYPE=image/jpeg:https://discover-huahin.info/wp-content/uploads/2025/12/IMG_8916.jpg
END:VEVENT
BEGIN:VEVENT
DTSTART;TZID=Asia/Bangkok:20251225T120000
DTEND;TZID=Asia/Bangkok:20251225T170000
DTSTAMP:20260422T012445
CREATED:20251106T033015Z
LAST-MODIFIED:20251106T033024Z
UID:4371-1766664000-1766682000@discover-huahin.info
SUMMARY:Merry Christmas
DESCRIPTION:This year will mark our amazing head chefs 11th Christmas at the helm aka the Altar 🎄 Each and every year Chef Pui and his fantastic team have served up well over 200 traditional Christmas dinners from our opening and with a little help from an Irish mum 😉🎄 \nYou can put your trust in us\, we will be prepared as always. Just check out past reviews for confirmation\, the proof is in the Christmas pudding. \nSo if you are still undecided\, then look no further than Father Ted’s. We have the experience and know how to make this Christmas a memorable occasion for you and all the family. \nIf by chance you are eating alone and would like to sit with a group\, just get in touch\, you would be surprised how common it is every year\, great friends are always made in Ted’s\, so do please join us. Sure where else in Hua Hin can you sit around a fire place on Christmas day ;)🎄🤶🌲🎅 \n🎄🤶🌲🎅🎄
URL:https://discover-huahin.info/event/merry-christmas/
LOCATION:Fater Ted’s\, 19 Damnernkasem Rd\, hua hin\, 77110\, Thailand
CATEGORIES:Central Hua Hin
ATTACH;FMTTYPE=image/jpeg:https://discover-huahin.info/wp-content/uploads/2025/11/IMG_8464.jpg
END:VEVENT
BEGIN:VEVENT
DTSTART;TZID=Asia/Bangkok:20251226T190000
DTEND;TZID=Asia/Bangkok:20251226T230000
DTSTAMP:20260422T012445
CREATED:20251106T031501Z
LAST-MODIFIED:20251224T051039Z
UID:4364-1766775600-1766790000@discover-huahin.info
SUMMARY:Friday Jazz Night Saxophone Solo
DESCRIPTION:Relax after Christmas\, feel the jazz 💫 \nThis Friday\, December 26th\, 2025\, unwind after the holidays and enjoy a live solo saxophone performance in a cozy\, intimate jazz atmosphere.\nSmooth jazz vibes\, good wine\, cocktails\, and wood-fired pizzas .. the perfect way to end your week. \n✨ Live Saxophone Solo \n🍷 Wine • Cocktails • Wood-fired Pizza \n🎶 Cozy jazz lounge atmosphere \n📍 Why Not Restaurant \n📍 Address: 4/27 Phet Kasem Rd\, Nong Kae\, Hua Hin\, Prachuap Khiri Khan 77110 \n📍 https://maps.app.goo.gl/EzWAZfZwWx15ifVX9 \n📞 Booking recommended: +66931344981 \nWhatsApp : +33646433108 \n⏰ Evening jazz session \n🎟️ Free entrance
URL:https://discover-huahin.info/event/happy-hour-jazz-at-why-not-restaurant/
LOCATION:Why Not Restaurant\, 4\, 27 Phet Kasem Rd\, Nong Kae\, Hua Hin\, Prachuap Khiri Khan\, 77110\, Thailand
CATEGORIES:Central Hua Hin
ATTACH;FMTTYPE=image/jpeg:https://discover-huahin.info/wp-content/uploads/2025/11/IMG_9246.jpg
END:VEVENT
BEGIN:VEVENT
DTSTART;TZID=Asia/Bangkok:20251231T180000
DTEND;TZID=Asia/Bangkok:20260101T010000
DTSTAMP:20260422T012445
CREATED:20251216T021114Z
LAST-MODIFIED:20251223T033152Z
UID:4456-1767204000-1767229200@discover-huahin.info
SUMMARY:Why Not New Year With Us?
DESCRIPTION:✨ WHY NOT NEW YEAR WITH US ? ✨\nRing in the New Year with style\, music\, and an unforgettable sunset at Why Not Restaurant and on the ROOFTOP 🎷🍾 \nJoin us on December 31st for a magical New Year’s Eve above Hua Hin:\n🌅 Sunset vibes\n🎶 2 live bands + 1 live DJ set\n🌌 Party under the stars until the countdown !\n🕕 6 PM – 1 AM\n🎉 FREE ENTRANCE !! \nA classy\, relaxed and festive atmosphere — perfect to celebrate the end of the year with friends\, music\, wine and great food. \n📍 Why Not Restaurant\nSoi 98\, between Blueport & Market Village\n4\, 27 Phet Kasem Rd\, Nong Kae\, Hua Hin\n📍 Hua Hin\, Thailand \n📞 Book your table in advance (recommended) :\n☎️ 092 620 1492\n☎️ 093 134 4981\n💬 WhatsApp: +33 6 46 43 31 08 \n✨ Let’s welcome the New Year together ! Why Not ? ✨\nSeats are limited\, don’t wait too long ! \n#WhyNotRestaurant\n#NewYearEveHuaHin\n#HuaHinNightlife\n#HuaHinEvents\n#NewYearParty\n#LiveMusicHuaHin\n#JazzVibes\n#FreeEntrance\n#PartyUnderTheStars\n#Countdown2026
URL:https://discover-huahin.info/event/4456/
LOCATION:Why Not Restaurant\, 4\, 27 Phet Kasem Rd\, Nong Kae\, Hua Hin\, Prachuap Khiri Khan\, 77110\, Thailand
CATEGORIES:Central Hua Hin
ATTACH;FMTTYPE=image/jpeg:https://discover-huahin.info/wp-content/uploads/2025/12/IMG_9131.jpg
END:VEVENT
BEGIN:VEVENT
DTSTART;TZID=Asia/Bangkok:20251231T193000
DTEND;TZID=Asia/Bangkok:20251231T193000
DTSTAMP:20260422T012445
CREATED:20251022T070814Z
LAST-MODIFIED:20251022T071514Z
UID:4169-1767209400-1767209400@discover-huahin.info
SUMMARY:the Bangkok Beatles New Years Eve Party Live in Father Ted's
DESCRIPTION:Make sure to book a spot nice and early if you fancy a table for dinner to enjoy Hua Hin’s Best New Years Eve Party with Thailand’s all time favorite Tribute Band The Bangkok Beatles with a late night International visual Dj playing the best of Soul and Dance floor Classics before\, after and in-between sets. \nTickets are available at 500tb per person with a complementary welcome drink upon arrival. Space is limited and interest is extremely high so please make sure to get in touch with us nice and early if you fancy joining us for an unforgettable night out with us in Father Teds.
URL:https://discover-huahin.info/event/the-bangkok-beatles-new-years-eve-party-live-in-father-teds/
LOCATION:Fater Ted’s\, 19 Damnernkasem Rd\, hua hin\, 77110\, Thailand
CATEGORIES:Central Hua Hin
ATTACH;FMTTYPE=image/jpeg:https://discover-huahin.info/wp-content/uploads/2025/10/IMG_8127.jpg
END:VEVENT
END:VCALENDAR