BEGIN:VCALENDAR
VERSION:2.0
PRODID:-//Discover Hua Hin: Your Ultimate Travel Guide - ECPv6.15.20//NONSGML v1.0//EN
CALSCALE:GREGORIAN
METHOD:PUBLISH
X-ORIGINAL-URL:https://discover-huahin.info
X-WR-CALDESC:Events for Discover Hua Hin: Your Ultimate Travel Guide
REFRESH-INTERVAL;VALUE=DURATION:PT1H
X-Robots-Tag:noindex
X-PUBLISHED-TTL:PT1H
BEGIN:VTIMEZONE
TZID:Asia/Bangkok
BEGIN:STANDARD
TZOFFSETFROM:+0700
TZOFFSETTO:+0700
TZNAME:+07
DTSTART:20250101T000000
END:STANDARD
END:VTIMEZONE
BEGIN:VEVENT
DTSTART;TZID=Asia/Bangkok:20260412T203000
DTEND;TZID=Asia/Bangkok:20260412T223000
DTSTAMP:20260421T231629
CREATED:20251112T021459Z
LAST-MODIFIED:20260408T050512Z
UID:4382-1776025800-1776033000@discover-huahin.info
SUMMARY:The Answer
DESCRIPTION:Beginning Tuesday 16 December and every Tuesday after The Answer Band will be appearing at Hard Rock Café Hua Hin in the Hilton Hotel. The band is scheduled to play from 8:30p until 10:30p. the Hard Rock is putting their live music schedule together to beginning in December.
URL:https://discover-huahin.info/event/the-answer/
LOCATION:Hard Rock Cafe\, Ground Floor\, Hilton Hua Hin\, 33 Naresdamri Rd\, Hua Hin\, Prachuap Khiri Khan\, 77110\, Thailand
CATEGORIES:Soi 88-94 Area
ATTACH;FMTTYPE=image/jpeg:https://discover-huahin.info/wp-content/uploads/2025/11/IMG_8646.jpg
END:VEVENT
END:VCALENDAR