BEGIN:VCALENDAR
VERSION:2.0
PRODID:-//Discover Hua Hin: Your Ultimate Travel Guide - ECPv6.15.20//NONSGML v1.0//EN
CALSCALE:GREGORIAN
METHOD:PUBLISH
X-WR-CALNAME:Discover Hua Hin: Your Ultimate Travel Guide
X-ORIGINAL-URL:https://discover-huahin.info
X-WR-CALDESC:Events for Discover Hua Hin: Your Ultimate Travel Guide
REFRESH-INTERVAL;VALUE=DURATION:PT1H
X-Robots-Tag:noindex
X-PUBLISHED-TTL:PT1H
BEGIN:VTIMEZONE
TZID:Asia/Bangkok
BEGIN:STANDARD
TZOFFSETFROM:+0700
TZOFFSETTO:+0700
TZNAME:+07
DTSTART:20240101T000000
END:STANDARD
END:VTIMEZONE
BEGIN:VEVENT
DTSTART;TZID=Asia/Bangkok:20251224T180000
DTEND;TZID=Asia/Bangkok:20251224T220000
DTSTAMP:20260422T061127
CREATED:20251013T102659Z
LAST-MODIFIED:20251015T094139Z
UID:4043-1766599200-1766613600@discover-huahin.info
SUMMARY:Christmas Eve dinner
DESCRIPTION:
URL:https://discover-huahin.info/event/christmas-eve-dinner/
LOCATION:Air Space Hua Hin\, 12/399 Hua Dorn\, Hua Hin\, Prachuap Khiri Khan\, 77110
CATEGORIES:Khao Takiab & South
ATTACH;FMTTYPE=image/jpeg:https://discover-huahin.info/wp-content/uploads/2025/10/IMG_8013.jpg
END:VEVENT
END:VCALENDAR